BEGIN:VCALENDAR
VERSION:2.0
PRODID:-//Rimessa Roscioli - ECPv6.15.17.1//NONSGML v1.0//EN
CALSCALE:GREGORIAN
METHOD:PUBLISH
X-ORIGINAL-URL:https://rimessaroscioli.com/?lang=it
X-WR-CALDESC:Eventi per Rimessa Roscioli
REFRESH-INTERVAL;VALUE=DURATION:PT1H
X-Robots-Tag:noindex
X-PUBLISHED-TTL:PT1H
BEGIN:VTIMEZONE
TZID:Europe/Rome
BEGIN:DAYLIGHT
TZOFFSETFROM:+0100
TZOFFSETTO:+0200
TZNAME:CEST
DTSTART:20250330T010000
END:DAYLIGHT
BEGIN:STANDARD
TZOFFSETFROM:+0200
TZOFFSETTO:+0100
TZNAME:CET
DTSTART:20251026T010000
END:STANDARD
BEGIN:DAYLIGHT
TZOFFSETFROM:+0100
TZOFFSETTO:+0200
TZNAME:CEST
DTSTART:20260329T010000
END:DAYLIGHT
BEGIN:STANDARD
TZOFFSETFROM:+0200
TZOFFSETTO:+0100
TZNAME:CET
DTSTART:20261025T010000
END:STANDARD
BEGIN:DAYLIGHT
TZOFFSETFROM:+0100
TZOFFSETTO:+0200
TZNAME:CEST
DTSTART:20270328T010000
END:DAYLIGHT
BEGIN:STANDARD
TZOFFSETFROM:+0200
TZOFFSETTO:+0100
TZNAME:CET
DTSTART:20271031T010000
END:STANDARD
END:VTIMEZONE
BEGIN:VEVENT
DTSTART;TZID=Europe/Rome:20260321T223000
DTEND;TZID=Europe/Rome:20260322T010000
DTSTAMP:20260419T144327
CREATED:20260314T175811Z
LAST-MODIFIED:20260314T175811Z
UID:7747-1774132200-1774141200@rimessaroscioli.com
SUMMARY:Joy Garrison Quartet
DESCRIPTION:Devil’s Kitchen Music Club \nJOY GARRISON – VOCE\nCLAUDIO COLASAZZA – PIANOFORTE\nFRANCESCO PUGLISI – CONTRABBASSO\nANDREA NUNZI – BATTERIA \nJoy Garrison\, nata a New York e figlia d’arte\, comincia a cantare sotto la guida di suo padre Jimmy Garrison (per anni contrabbassista dello storico quartetto di John Coltrane). \nIl suo quartetto è composto da alcuni tra i migliori musicisti italiani degli ultimi 30 anni \n15€ con consumazione inclusa
URL:https://rimessaroscioli.com/fabtime/joy-garrison-quartet/?lang=it
LOCATION:Rimessa F.A.B.\, Via delle Zoccolette\, 28\, Roma\, Italy\, 00186\, Italy
ATTACH;FMTTYPE=image/png:https://rimessaroscioli.com/wp-content/uploads/2026/03/GARRISON-11.png
END:VEVENT
END:VCALENDAR