BEGIN:VCALENDAR
VERSION:2.0
PRODID:-//Rimessa Roscioli - ECPv6.15.17.1//NONSGML v1.0//EN
CALSCALE:GREGORIAN
METHOD:PUBLISH
X-WR-CALNAME:Rimessa Roscioli
X-ORIGINAL-URL:https://rimessaroscioli.com/?lang=it
X-WR-CALDESC:Eventi per Rimessa Roscioli
REFRESH-INTERVAL;VALUE=DURATION:PT1H
X-Robots-Tag:noindex
X-PUBLISHED-TTL:PT1H
BEGIN:VTIMEZONE
TZID:Europe/Rome
BEGIN:DAYLIGHT
TZOFFSETFROM:+0100
TZOFFSETTO:+0200
TZNAME:CEST
DTSTART:20250330T010000
END:DAYLIGHT
BEGIN:STANDARD
TZOFFSETFROM:+0200
TZOFFSETTO:+0100
TZNAME:CET
DTSTART:20251026T010000
END:STANDARD
BEGIN:DAYLIGHT
TZOFFSETFROM:+0100
TZOFFSETTO:+0200
TZNAME:CEST
DTSTART:20260329T010000
END:DAYLIGHT
BEGIN:STANDARD
TZOFFSETFROM:+0200
TZOFFSETTO:+0100
TZNAME:CET
DTSTART:20261025T010000
END:STANDARD
BEGIN:DAYLIGHT
TZOFFSETFROM:+0100
TZOFFSETTO:+0200
TZNAME:CEST
DTSTART:20270328T010000
END:DAYLIGHT
BEGIN:STANDARD
TZOFFSETFROM:+0200
TZOFFSETTO:+0100
TZNAME:CET
DTSTART:20271031T010000
END:STANDARD
END:VTIMEZONE
BEGIN:VEVENT
DTSTART;TZID=Europe/Rome:20260510T123000
DTEND;TZID=Europe/Rome:20260510T150000
DTSTAMP:20260424T194919
CREATED:20260424T114402Z
LAST-MODIFIED:20260424T114431Z
UID:8405-1778416200-1778425200@rimessaroscioli.com
SUMMARY:Pizza SLICE of Capanno
DESCRIPTION:David Boncompagni di Slice: pizza romana\, tecnica e istinto. \nIl resto non si spiega. \nSi mangia. \n– \nOpen Pizza + Cocktail di Benvenuto + 1 Birra\n35€ \nRimessa FAB\n10/05 – 12:30 \n 
URL:https://rimessaroscioli.com/fabtime/pizza-slice-of-capanno/?lang=it
LOCATION:Rimessa F.A.B.\, Via delle Zoccolette\, 28\, Roma\, Italy\, 00186\, Italy
ATTACH;FMTTYPE=image/png:https://rimessaroscioli.com/wp-content/uploads/2026/04/slice-11.png
ORGANIZER;CN="Rimessa Roscioli":MAILTO:booking@rimessaroscioli.com
END:VEVENT
END:VCALENDAR